BEGIN:VCALENDAR
VERSION:2.0
PRODID:-//Work Wiltshire - ECPv6.15.20//NONSGML v1.0//EN
CALSCALE:GREGORIAN
METHOD:PUBLISH
X-WR-CALNAME:Work Wiltshire
X-ORIGINAL-URL:https://workwiltshire.co.uk
X-WR-CALDESC:Events for Work Wiltshire
REFRESH-INTERVAL;VALUE=DURATION:PT1H
X-Robots-Tag:noindex
X-PUBLISHED-TTL:PT1H
BEGIN:VTIMEZONE
TZID:Europe/London
BEGIN:DAYLIGHT
TZOFFSETFROM:+0000
TZOFFSETTO:+0100
TZNAME:BST
DTSTART:20230326T010000
END:DAYLIGHT
BEGIN:STANDARD
TZOFFSETFROM:+0100
TZOFFSETTO:+0000
TZNAME:GMT
DTSTART:20231029T010000
END:STANDARD
BEGIN:DAYLIGHT
TZOFFSETFROM:+0000
TZOFFSETTO:+0100
TZNAME:BST
DTSTART:20240331T010000
END:DAYLIGHT
BEGIN:STANDARD
TZOFFSETFROM:+0100
TZOFFSETTO:+0000
TZNAME:GMT
DTSTART:20241027T010000
END:STANDARD
BEGIN:DAYLIGHT
TZOFFSETFROM:+0000
TZOFFSETTO:+0100
TZNAME:BST
DTSTART:20250330T010000
END:DAYLIGHT
BEGIN:STANDARD
TZOFFSETFROM:+0100
TZOFFSETTO:+0000
TZNAME:GMT
DTSTART:20251026T010000
END:STANDARD
END:VTIMEZONE
BEGIN:VEVENT
DTSTART;VALUE=DATE:20240115
DTEND;VALUE=DATE:20240201
DTSTAMP:20260425T204142
CREATED:20240116T122715Z
LAST-MODIFIED:20240116T122950Z
UID:5672331-1705276800-1706745599@workwiltshire.co.uk
SUMMARY:Chippenham Community Hub - Registration open for new numeracy course
DESCRIPTION:Chippenham Community Hub \nChippenham Community Hub will be starting a new 6 week course to help you gain number confidence. \nThe courses are bespoke to their learners and ran by a friendly\, trained member of the team. Come along to the Hub from the 15th January to register your interest in the course. Find out more here: Community Help | Chippenham Community Hub | England (chippenhamhub.com \nMultiply is here to support adults (aged 19+) improve their skills and confidence in numeracy.  For those without GCSE maths at grade 4 (previously known as a C grade). Or for those with a Grade C or above if they feel they are not working at that level anymore\, they can self declare they need support.\n\n\n\nBACK TO WHAT’S ON?
URL:https://workwiltshire.co.uk/event/chippenham-community-hub-registration-open-for-new-numeracy-course/
LOCATION:Chippenham Community Hub\, 23 Borough Parade\, Chippenham\, Wiltshire\, SN15 3WL\, United Kingdom
CATEGORIES:All Events,Multiply
ATTACH;FMTTYPE=image/jpeg:https://workwiltshire.co.uk/wp-content/uploads/2024/01/CCHub-logo.jpg
ORGANIZER;CN="Chippenham Community Hub":MAILTO:chippenhamcommunityecohub@gmail.com
END:VEVENT
END:VCALENDAR