BEGIN:VCALENDAR
VERSION:2.0
PRODID:-//Work Wiltshire - ECPv6.15.20//NONSGML v1.0//EN
CALSCALE:GREGORIAN
METHOD:PUBLISH
X-WR-CALNAME:Work Wiltshire
X-ORIGINAL-URL:https://workwiltshire.co.uk
X-WR-CALDESC:Events for Work Wiltshire
REFRESH-INTERVAL;VALUE=DURATION:PT1H
X-Robots-Tag:noindex
X-PUBLISHED-TTL:PT1H
BEGIN:VTIMEZONE
TZID:Europe/London
BEGIN:DAYLIGHT
TZOFFSETFROM:+0000
TZOFFSETTO:+0100
TZNAME:BST
DTSTART:20230326T010000
END:DAYLIGHT
BEGIN:STANDARD
TZOFFSETFROM:+0100
TZOFFSETTO:+0000
TZNAME:GMT
DTSTART:20231029T010000
END:STANDARD
BEGIN:DAYLIGHT
TZOFFSETFROM:+0000
TZOFFSETTO:+0100
TZNAME:BST
DTSTART:20240331T010000
END:DAYLIGHT
BEGIN:STANDARD
TZOFFSETFROM:+0100
TZOFFSETTO:+0000
TZNAME:GMT
DTSTART:20241027T010000
END:STANDARD
BEGIN:DAYLIGHT
TZOFFSETFROM:+0000
TZOFFSETTO:+0100
TZNAME:BST
DTSTART:20250330T010000
END:DAYLIGHT
BEGIN:STANDARD
TZOFFSETFROM:+0100
TZOFFSETTO:+0000
TZNAME:GMT
DTSTART:20251026T010000
END:STANDARD
END:VTIMEZONE
BEGIN:VEVENT
DTSTART;TZID=Europe/London:20240207T100000
DTEND;TZID=Europe/London:20240207T120000
DTSTAMP:20260425T131701
CREATED:20230707T094948Z
LAST-MODIFIED:20240111T111306Z
UID:5670501-1707300000-1707307200@workwiltshire.co.uk
SUMMARY:Discover Your Skills (face to face)
DESCRIPTION:What’s this course about?    \nThis course supports learners to identify their key skills in order to develop confidence in identifying how they can plan for their future.  Learners will contribute to activities designed to use and enhance a range of collaborative and communication skills which will support their next steps.  \nCourse format:    \nThis is a Face to Face course where you’ll learn together and take part in practical group activities\, all in a relaxed and friendly environment.    \nWho will benefit from attending?    \nThis course is people who want support in identifying their skills and are looking to make changes to improve their lives.  \nWhat will I learn?    \nLearners will explore their personal qualities\, skills and interests  \nThey will recognise that we all have different skills\, qualities and interests  \nThey will discuss how different skills\, qualities and interests complement each other  \nLearners will explore how to promote themselves effectively   \nThey will learn to set goals  \nThis is run as a single 2-hour session\, with some activities to do at home to help you practise your skills.    \nYou will be required to complete some paperwork during this course. This will record and support your learning journey and successes.    \nEntry Requirements: \nFamily and Community Learning courses are funded by the Education and Skills Funding Agency. Courses are no cost to learners if they are aged 19+\, have a Wiltshire postcode\, and have been a resident in UK/EU for 3+years (or have certain immigration status) and if you can tick any of these criteria: \n\nhave less than 5 GCSEs grades A-C / 9-4\nin receipt of benefits (other than child benefit)\nare a military family\nare a family with children who need additional support\nare unemployed and looking for work.\n\nIf you are unsure if you are eligible\, we are always happy to talk things through. \nVenue: The Laverton\, Bratton Road\, Westbury\, Wiltshire\, BA13 3EN \nClick here to enrol: https://workwiltshire.co.uk/enrolment/ \nOr to contact us call 01225 770478 or email familyandcommunitylearning@wiltshire.gov.uk \nBack to What’s On?
URL:https://workwiltshire.co.uk/event/discover-your-skills-7-2-24/
CATEGORIES:All Events,Family and Community Learning Courses
ATTACH;FMTTYPE=image/png:https://workwiltshire.co.uk/wp-content/uploads/2022/08/family-and-community-learning-logo-colour.png
END:VEVENT
END:VCALENDAR