BEGIN:VCALENDAR
VERSION:2.0
PRODID:-//Work Wiltshire - ECPv6.15.20//NONSGML v1.0//EN
CALSCALE:GREGORIAN
METHOD:PUBLISH
X-WR-CALNAME:Work Wiltshire
X-ORIGINAL-URL:https://workwiltshire.co.uk
X-WR-CALDESC:Events for Work Wiltshire
REFRESH-INTERVAL;VALUE=DURATION:PT1H
X-Robots-Tag:noindex
X-PUBLISHED-TTL:PT1H
BEGIN:VTIMEZONE
TZID:Europe/London
BEGIN:DAYLIGHT
TZOFFSETFROM:+0000
TZOFFSETTO:+0100
TZNAME:BST
DTSTART:20240331T010000
END:DAYLIGHT
BEGIN:STANDARD
TZOFFSETFROM:+0100
TZOFFSETTO:+0000
TZNAME:GMT
DTSTART:20241027T010000
END:STANDARD
BEGIN:DAYLIGHT
TZOFFSETFROM:+0000
TZOFFSETTO:+0100
TZNAME:BST
DTSTART:20250330T010000
END:DAYLIGHT
BEGIN:STANDARD
TZOFFSETFROM:+0100
TZOFFSETTO:+0000
TZNAME:GMT
DTSTART:20251026T010000
END:STANDARD
BEGIN:DAYLIGHT
TZOFFSETFROM:+0000
TZOFFSETTO:+0100
TZNAME:BST
DTSTART:20260329T010000
END:DAYLIGHT
BEGIN:STANDARD
TZOFFSETFROM:+0100
TZOFFSETTO:+0000
TZNAME:GMT
DTSTART:20261025T010000
END:STANDARD
END:VTIMEZONE
BEGIN:VEVENT
DTSTART;TZID=Europe/London:20250929T100000
DTEND;TZID=Europe/London:20250929T120000
DTSTAMP:20260424T145415
CREATED:20221111T093310Z
LAST-MODIFIED:20260331T115937Z
UID:5666456-1759140000-1759147200@workwiltshire.co.uk
SUMMARY:Helping my Child Build Concentration and Resilience
DESCRIPTION:What’s this course about?    This course will explore the reasons why children may find concentrating or being resilient difficult\, and how you can discover ways to build children’s concentration and resilience at home.   Course format:    This is an online course where you’ll learn together and take part in practical group activities\, all in a relaxed and friendly environment.    Who will benefit from attending?    This course is for parents and carers who want to support their child/children with their concentration and resilience.   What will I learn?    Explore the reasons why children may find concentrating or being resilient difficult    Discover ways to build children’s concentration and resilience at home  Develop an awareness of how the environment may affect children’s concentration  Begin to understand how words can be used to develop children’s resilience   How long is the course?    This is run as a single 2-hour session\, with some activities to do at home to help you practise your skills.    Will I be assessed?    You will be required to complete some paperwork during this course. This will record and support your learning journey and successes.  Eligibility: Courses are no cost to learners who meet our eligibility criteria. Learners must be aged 19+ on 31 August of the academic year\, have a Wiltshire postcode\, and meet certain residency requirements. They must also be able to tick one of the following criteria: On a lower income\, earning less than £25\,750 a year.In receipt of benefits (other than child benefit).Care leaver\, refugee\, foster carer\, carer\, military family / ex-armed forces personnel\, have a learning difficulty or disability\, have school-aged children who receive means-tested free school meals.Not in work and looking to go into work\, now or in the future.Click here to enrol: https://workwiltshire.co.uk/enrolment/ Or to contact us call 01225 770478 or email familyandcommunitylearning@wiltshire.gov.uk https://www.facebook.com/Wiltsfamilylearning
URL:https://workwiltshire.co.uk/event/hmcbcar-29-9-25/
LOCATION:Online
CATEGORIES:All Events,Family and Community Learning Courses
ORGANIZER;CN="Family and Community Learning":MAILTO:Familyandcommunitylearning@wiltshire.gov.uk
END:VEVENT
END:VCALENDAR