BEGIN:VCALENDAR
VERSION:2.0
PRODID:-//Work Wiltshire - ECPv6.15.20//NONSGML v1.0//EN
CALSCALE:GREGORIAN
METHOD:PUBLISH
X-WR-CALNAME:Work Wiltshire
X-ORIGINAL-URL:https://workwiltshire.co.uk
X-WR-CALDESC:Events for Work Wiltshire
REFRESH-INTERVAL;VALUE=DURATION:PT1H
X-Robots-Tag:noindex
X-PUBLISHED-TTL:PT1H
BEGIN:VTIMEZONE
TZID:Europe/London
BEGIN:DAYLIGHT
TZOFFSETFROM:+0000
TZOFFSETTO:+0100
TZNAME:BST
DTSTART:20240331T010000
END:DAYLIGHT
BEGIN:STANDARD
TZOFFSETFROM:+0100
TZOFFSETTO:+0000
TZNAME:GMT
DTSTART:20241027T010000
END:STANDARD
BEGIN:DAYLIGHT
TZOFFSETFROM:+0000
TZOFFSETTO:+0100
TZNAME:BST
DTSTART:20250330T010000
END:DAYLIGHT
BEGIN:STANDARD
TZOFFSETFROM:+0100
TZOFFSETTO:+0000
TZNAME:GMT
DTSTART:20251026T010000
END:STANDARD
BEGIN:DAYLIGHT
TZOFFSETFROM:+0000
TZOFFSETTO:+0100
TZNAME:BST
DTSTART:20260329T010000
END:DAYLIGHT
BEGIN:STANDARD
TZOFFSETFROM:+0100
TZOFFSETTO:+0000
TZNAME:GMT
DTSTART:20261025T010000
END:STANDARD
END:VTIMEZONE
BEGIN:VEVENT
DTSTART;TZID=Europe/London:20250805T110000
DTEND;TZID=Europe/London:20250805T123000
DTSTAMP:20260425T145344
CREATED:20220217T134737Z
LAST-MODIFIED:20260331T124322Z
UID:5660401-1754391600-1754397000@workwiltshire.co.uk
SUMMARY:Learn and Grow – Family Learning event
DESCRIPTION:Venue: West End Baptist Church\, Westbury\, BA13 3JG Join this friendly family learning session for parents / carers and children.  Enjoy fun nature and wellbeing activities together as a family.  Find out about support available too.  These events are aimed at parents and carers with primary-aged children\, but older / younger siblings are welcome.  Book on Eventbrite via this link: https://www.eventbrite.com/e/learn-and-grow-family-learning-event-tickets-1411017674849?aff=oddtdtcreator Link to our Main Eventbrite page: https://www.eventbrite.com/o/family-and-community-learning-wiltshire-council-112449427271
URL:https://workwiltshire.co.uk/event/learn-and-grow-family-learning-event-5-8-25/
CATEGORIES:All Events,Family and Community Learning Courses
ORGANIZER;CN="Family and Community Learning":MAILTO:Familyandcommunitylearning@wiltshire.gov.uk
END:VEVENT
END:VCALENDAR