BEGIN:VCALENDAR
VERSION:2.0
PRODID:-//Work Wiltshire - ECPv6.15.20//NONSGML v1.0//EN
CALSCALE:GREGORIAN
METHOD:PUBLISH
X-WR-CALNAME:Work Wiltshire
X-ORIGINAL-URL:https://workwiltshire.co.uk
X-WR-CALDESC:Events for Work Wiltshire
REFRESH-INTERVAL;VALUE=DURATION:PT1H
X-Robots-Tag:noindex
X-PUBLISHED-TTL:PT1H
BEGIN:VTIMEZONE
TZID:Europe/London
BEGIN:DAYLIGHT
TZOFFSETFROM:+0000
TZOFFSETTO:+0100
TZNAME:BST
DTSTART:20230326T010000
END:DAYLIGHT
BEGIN:STANDARD
TZOFFSETFROM:+0100
TZOFFSETTO:+0000
TZNAME:GMT
DTSTART:20231029T010000
END:STANDARD
BEGIN:DAYLIGHT
TZOFFSETFROM:+0000
TZOFFSETTO:+0100
TZNAME:BST
DTSTART:20240331T010000
END:DAYLIGHT
BEGIN:STANDARD
TZOFFSETFROM:+0100
TZOFFSETTO:+0000
TZNAME:GMT
DTSTART:20241027T010000
END:STANDARD
BEGIN:DAYLIGHT
TZOFFSETFROM:+0000
TZOFFSETTO:+0100
TZNAME:BST
DTSTART:20250330T010000
END:DAYLIGHT
BEGIN:STANDARD
TZOFFSETFROM:+0100
TZOFFSETTO:+0000
TZNAME:GMT
DTSTART:20251026T010000
END:STANDARD
END:VTIMEZONE
BEGIN:VEVENT
DTSTART;TZID=Europe/London:20240620T100000
DTEND;TZID=Europe/London:20240620T170000
DTSTAMP:20260426T005558
CREATED:20240620T113519Z
LAST-MODIFIED:20240620T113519Z
UID:5675978-1718877600-1718902800@workwiltshire.co.uk
SUMMARY:Maths for Business Workshop
DESCRIPTION:Inspire (by Wessex Chambers) are running a one day workshop Maths for business – Introduction to managing your company’s finances\, if your business is established or you are a start up\, this one day workshop can support you. \nA morning session covering: \n\nBasic core set of maths skills needed to run any business\n\nThe afternoon session will cover: \n\nUnderstanding profit and loss\, budgeting\, cashflow\, KPI setting and monitoring skills\, forecasting with the clever use of Excel to help with basic and more advanced calculations along with statistics.\n\nTo book visit Eventbrite. \nBACK TO WHAT’S ON?
URL:https://workwiltshire.co.uk/event/maths-for-business-workshop-2/
LOCATION:Heywood House\, Unit 9 Heywood House Business Centre\, Westbury\, Wiltshire\, BA13 4NA\, United Kingdom
CATEGORIES:All Events,Multiply
ATTACH;FMTTYPE=image/svg+xml:https://workwiltshire.co.uk/wp-content/uploads/2024/02/Inspire_Logo.svg
ORGANIZER;CN="Inspire by Wessex Chambers":MAILTO:team@inspirebiz.co.uk
END:VEVENT
END:VCALENDAR