BEGIN:VCALENDAR
VERSION:2.0
PRODID:-//Work Wiltshire - ECPv6.15.20//NONSGML v1.0//EN
CALSCALE:GREGORIAN
METHOD:PUBLISH
X-WR-CALNAME:Work Wiltshire
X-ORIGINAL-URL:https://workwiltshire.co.uk
X-WR-CALDESC:Events for Work Wiltshire
REFRESH-INTERVAL;VALUE=DURATION:PT1H
X-Robots-Tag:noindex
X-PUBLISHED-TTL:PT1H
BEGIN:VTIMEZONE
TZID:Europe/London
BEGIN:DAYLIGHT
TZOFFSETFROM:+0000
TZOFFSETTO:+0100
TZNAME:BST
DTSTART:20240331T010000
END:DAYLIGHT
BEGIN:STANDARD
TZOFFSETFROM:+0100
TZOFFSETTO:+0000
TZNAME:GMT
DTSTART:20241027T010000
END:STANDARD
BEGIN:DAYLIGHT
TZOFFSETFROM:+0000
TZOFFSETTO:+0100
TZNAME:BST
DTSTART:20250330T010000
END:DAYLIGHT
BEGIN:STANDARD
TZOFFSETFROM:+0100
TZOFFSETTO:+0000
TZNAME:GMT
DTSTART:20251026T010000
END:STANDARD
BEGIN:DAYLIGHT
TZOFFSETFROM:+0000
TZOFFSETTO:+0100
TZNAME:BST
DTSTART:20260329T010000
END:DAYLIGHT
BEGIN:STANDARD
TZOFFSETFROM:+0100
TZOFFSETTO:+0000
TZNAME:GMT
DTSTART:20261025T010000
END:STANDARD
END:VTIMEZONE
BEGIN:VEVENT
DTSTART;TZID=Europe/London:20251125T094500
DTEND;TZID=Europe/London:20251125T114500
DTSTAMP:20260425T020025
CREATED:20251029T092518Z
LAST-MODIFIED:20251029T092833Z
UID:5683866-1764063900-1764071100@workwiltshire.co.uk
SUMMARY:Resilience and Readiness
DESCRIPTION:Venue: Trowbridge 09:45-11:45 AND 12:15-14:15 Tuesdays and 10:00-12:00 Thursdays Online \nWhat is this course about?   \nA four-week course that supports you to be able to develop the knowledge\, skills and behaviours that will help you to feel emotionally ready for work\, with tools to develop confidence and resilience when searching for and starting work.  \nCourse format:   \nThis is a blended course where you will learn in person and online. You will learn together in a small group and take part in practical group activities\, all in a relaxed and friendly environment.   \nWho will benefit from attending?   \nThis course is for people who have been out of work for some time and have lost confidence.  \nWhat will I learn?   \n\nHow to feel more confident about yourself and your skills \n\n\nHow to respond to life’s challenges and develop resilience  \n\n\nHow to use techniques to cope with stress \n\n\nHow to gain and maintain motivation \n\n\nHow to develop interpersonal skills and work with others in a team \n\nHow long is the course?   \nThis is run over 4 weeks and there will be 3 sessions per week (2 x 2-hour sessions on one day and then a follow up session online later that week). There will be some activities to do at home to help you practise your skills.   \nWill I be assessed?   \nYou will be required to complete some paperwork during this course. This will record and support your learning journey and successes.   \nEntry Requirements:    \nFaCL courses are funded by the DfE.   \nCourses are no cost to learners who meet our eligibility criteria. Learners must be aged 19+ on 31 August of the academic year\, have a Wiltshire postcode and meet certain residency requirements. You must also be able to tick one of the following criteria:  \n\nUnemployed and would like to work now or in the future  \n\n\nEarn less than £25\,750  \n\n\nIn receipt of benefits (other than child benefit)  \n\n\nHave school aged children who qualify for means-tested free school meals  \n\n\nHave Refugee Status  \n\n\nCarer  \n\n\nFoster Carer  \n\n\nCare Leaver  \n\n\nMilitary Family  \n\n\nEx-Armed Forces Personnel  \n\n\nHave a Learning Difficulty or Disability  \n\n  If you are unsure if you are eligible\, we are always happy to talk things through with you. \nTo book a place\, please give us a ring on 01225 770 478. \nPlease get in touch if you have any questions. We will look forward to hearing from you. \nhttps://www.facebook.com/Wiltsfamilylearning
URL:https://workwiltshire.co.uk/event/resilience-and-readiness/
END:VEVENT
END:VCALENDAR