BEGIN:VCALENDAR
VERSION:2.0
PRODID:-//Work Wiltshire - ECPv6.15.20//NONSGML v1.0//EN
CALSCALE:GREGORIAN
METHOD:PUBLISH
X-WR-CALNAME:Work Wiltshire
X-ORIGINAL-URL:https://workwiltshire.co.uk
X-WR-CALDESC:Events for Work Wiltshire
REFRESH-INTERVAL;VALUE=DURATION:PT1H
X-Robots-Tag:noindex
X-PUBLISHED-TTL:PT1H
BEGIN:VTIMEZONE
TZID:Europe/London
BEGIN:DAYLIGHT
TZOFFSETFROM:+0000
TZOFFSETTO:+0100
TZNAME:BST
DTSTART:20230326T010000
END:DAYLIGHT
BEGIN:STANDARD
TZOFFSETFROM:+0100
TZOFFSETTO:+0000
TZNAME:GMT
DTSTART:20231029T010000
END:STANDARD
BEGIN:DAYLIGHT
TZOFFSETFROM:+0000
TZOFFSETTO:+0100
TZNAME:BST
DTSTART:20240331T010000
END:DAYLIGHT
BEGIN:STANDARD
TZOFFSETFROM:+0100
TZOFFSETTO:+0000
TZNAME:GMT
DTSTART:20241027T010000
END:STANDARD
BEGIN:DAYLIGHT
TZOFFSETFROM:+0000
TZOFFSETTO:+0100
TZNAME:BST
DTSTART:20250330T010000
END:DAYLIGHT
BEGIN:STANDARD
TZOFFSETFROM:+0100
TZOFFSETTO:+0000
TZNAME:GMT
DTSTART:20251026T010000
END:STANDARD
END:VTIMEZONE
BEGIN:VEVENT
DTSTART;VALUE=DATE:20240207
DTEND;VALUE=DATE:20240401
DTSTAMP:20260425T145209
CREATED:20240207T120900Z
LAST-MODIFIED:20240318T151116Z
UID:5672745-1707264000-1711929599@workwiltshire.co.uk
SUMMARY:Spreadsheets\, Finance & Budgeting and IT Security Online Courses - Continuous Enrolments
DESCRIPTION:Through Multiply\, Skills Ladder are offering free online courses to help you improve your skills using Excel spreadsheets\, budgeting and finance and IT security. \nPlease click on the links below where you can find more information about each course. Enrolments are continuous. \nSpreadsheet Course \nBudgeting and Finance Course \nIT Security Course \nMultiply is here to support adults (aged 19+) improve their skills and confidence in numeracy.  Courses are free for those without a GCSE maths at grade 4 (previously known as a C grade) and for those with a Grade 4/C  (and above) but no longer feel that they are working at that level.  \nBACK TO WHAT’S ON?
URL:https://workwiltshire.co.uk/event/spreadsheets-finance-budgeting-and-it-security-online-courses-continuous-enrolments/
LOCATION:Online
CATEGORIES:All Events,Multiply
ATTACH;FMTTYPE=image/jpeg:https://workwiltshire.co.uk/wp-content/uploads/2024/02/SkillsLadderLogoTightSquare-002.jpg
ORGANIZER;CN="Skills Ladder":MAILTO:ask@skillsladder.co.uk
END:VEVENT
END:VCALENDAR