BEGIN:VCALENDAR
VERSION:2.0
PRODID:-//Work Wiltshire - ECPv6.15.20//NONSGML v1.0//EN
CALSCALE:GREGORIAN
METHOD:PUBLISH
X-WR-CALNAME:Work Wiltshire
X-ORIGINAL-URL:https://workwiltshire.co.uk
X-WR-CALDESC:Events for Work Wiltshire
REFRESH-INTERVAL;VALUE=DURATION:PT1H
X-Robots-Tag:noindex
X-PUBLISHED-TTL:PT1H
BEGIN:VTIMEZONE
TZID:Europe/London
BEGIN:DAYLIGHT
TZOFFSETFROM:+0000
TZOFFSETTO:+0100
TZNAME:BST
DTSTART:20230326T010000
END:DAYLIGHT
BEGIN:STANDARD
TZOFFSETFROM:+0100
TZOFFSETTO:+0000
TZNAME:GMT
DTSTART:20231029T010000
END:STANDARD
BEGIN:DAYLIGHT
TZOFFSETFROM:+0000
TZOFFSETTO:+0100
TZNAME:BST
DTSTART:20240331T010000
END:DAYLIGHT
BEGIN:STANDARD
TZOFFSETFROM:+0100
TZOFFSETTO:+0000
TZNAME:GMT
DTSTART:20241027T010000
END:STANDARD
BEGIN:DAYLIGHT
TZOFFSETFROM:+0000
TZOFFSETTO:+0100
TZNAME:BST
DTSTART:20250330T010000
END:DAYLIGHT
BEGIN:STANDARD
TZOFFSETFROM:+0100
TZOFFSETTO:+0000
TZNAME:GMT
DTSTART:20251026T010000
END:STANDARD
END:VTIMEZONE
BEGIN:VEVENT
DTSTART;TZID=Europe/London:20240613T100000
DTEND;TZID=Europe/London:20240613T120000
DTSTAMP:20260425T205809
CREATED:20230215T132826Z
LAST-MODIFIED:20260331T144945Z
UID:5667281-1718272800-1718280000@workwiltshire.co.uk
SUMMARY:Starting Secondary - face to face
DESCRIPTION:OVERALL COURSE AIMS: \n\n 	Develop strategies to support my child with the transition to secondary school. \n 	Gain further knowledge on the role of us as parents during the transition to secondary school. \n\nClick here to enrol: https://workwiltshire.co.uk/enrolment/\n\nOr to contact us call 01225 770478 or email familyandcommunitylearning@wiltshire.gov.uk\n\nhttps://www.facebook.com/Wiltsfamilylearning\n\nEntry Requirements:\n\nFamily and Community Learning courses are funded by the Education and Skills Funding Agency. Courses are no cost to learners if they are aged 19+\, have a Wiltshire postcode\, and have been a resident in UK/EU for 3+years (or have certain immigration status) and if you can tick any of these criteria:\n\n 	have less than 5 GCSEs grades A-C / 9-4\n 	in receipt of benefits (other than child benefit)\n 	are a military family\n 	are a family with children who need additional support\n 	are unemployed and looking for work.\n\nIf you are unsure if you are eligible\, we are always happy to talk things through.\n\nVenue: Warminster Library\n3 Horseshoes Walk\nWarminster\nBA12 9BT\n\nBack to What’s On?
URL:https://workwiltshire.co.uk/event/starting-secondary-13-6-24/
CATEGORIES:All Events,Family and Community Learning Courses,Multiply
END:VEVENT
END:VCALENDAR