BEGIN:VCALENDAR
VERSION:2.0
PRODID:-//Work Wiltshire - ECPv6.15.20//NONSGML v1.0//EN
CALSCALE:GREGORIAN
METHOD:PUBLISH
X-WR-CALNAME:Work Wiltshire
X-ORIGINAL-URL:https://workwiltshire.co.uk
X-WR-CALDESC:Events for Work Wiltshire
REFRESH-INTERVAL;VALUE=DURATION:PT1H
X-Robots-Tag:noindex
X-PUBLISHED-TTL:PT1H
BEGIN:VTIMEZONE
TZID:Europe/London
BEGIN:DAYLIGHT
TZOFFSETFROM:+0000
TZOFFSETTO:+0100
TZNAME:BST
DTSTART:20240331T010000
END:DAYLIGHT
BEGIN:STANDARD
TZOFFSETFROM:+0100
TZOFFSETTO:+0000
TZNAME:GMT
DTSTART:20241027T010000
END:STANDARD
BEGIN:DAYLIGHT
TZOFFSETFROM:+0000
TZOFFSETTO:+0100
TZNAME:BST
DTSTART:20250330T010000
END:DAYLIGHT
BEGIN:STANDARD
TZOFFSETFROM:+0100
TZOFFSETTO:+0000
TZNAME:GMT
DTSTART:20251026T010000
END:STANDARD
BEGIN:DAYLIGHT
TZOFFSETFROM:+0000
TZOFFSETTO:+0100
TZNAME:BST
DTSTART:20260329T010000
END:DAYLIGHT
BEGIN:STANDARD
TZOFFSETFROM:+0100
TZOFFSETTO:+0000
TZNAME:GMT
DTSTART:20261025T010000
END:STANDARD
END:VTIMEZONE
BEGIN:VEVENT
DTSTART;TZID=Europe/London:20251002T100000
DTEND;TZID=Europe/London:20251002T120000
DTSTAMP:20260424T130840
CREATED:20220217T133304Z
LAST-MODIFIED:20260331T115826Z
UID:5660390-1759399200-1759406400@workwiltshire.co.uk
SUMMARY:Understanding School Anxiety: the early signs of EBSA
DESCRIPTION:What’s this course about?  On this course you will learn strategies to use to support your child.     The purpose of this course is to learn about Emotionally Based School Avoidance (EBSA) and the ways to support children in attending school at the early stages of school avoidance.  Course format:    This is an online course where you will learn together. There will be a QandA session with an assistant educational psychologist. You will take part in group discussions\, in a relaxed and friendly environment.    Who will benefit from attending?      This course is for parents/carers who would like to understand how to support their child…..  This course is for parents and carers of children who are at the early stages of school avoidance and want to support their child/children in developing a positive relationship with school and promote school attendance.    What will I learn?       The impact that poor school attendance can have on children and families. Explore Emotionally Based School Avoidance\, including the signs and cycle that can occur. Develop strategies to support children experiencing EBSA. Identify different professionals who can offer further support. How long is the course?   This course runs as a 2 hour session. Will I be assessed?  You will be required to complete some paperwork during this course.   This will record and support your learning journey and successes.  Eligibility: Courses are no cost to learners who meet our eligibility criteria. Learners must be aged 19+ on 31 August of the academic year\, have a Wiltshire postcode\, and meet certain residency requirements. They must also be able to tick one of the following criteria: On a lower income\, earning less than £25\,750 a year.In receipt of benefits (other than child benefit).Care leaver\, refugee\, foster carer\, carer\, military family / ex-armed forces personnel\, have a learning difficulty or disability\, have school-aged children who receive means-tested free school meals.Not in work and looking to go into work\, now or in the future.Click here to enrol: https://workwiltshire.co.uk/enrolment/ Or to contact us call 01225 770478 or email familyandcommunitylearning@wiltshire.gov.uk https://www.facebook.com/Wiltsfamilylearning
URL:https://workwiltshire.co.uk/event/usa-2-10-25/
LOCATION:Online
CATEGORIES:All Events,Family and Community Learning Courses
ORGANIZER;CN="Family and Community Learning":MAILTO:Familyandcommunitylearning@wiltshire.gov.uk
END:VEVENT
END:VCALENDAR