BEGIN:VCALENDAR
VERSION:2.0
PRODID:-//Work Wiltshire - ECPv6.15.20//NONSGML v1.0//EN
CALSCALE:GREGORIAN
METHOD:PUBLISH
X-WR-CALNAME:Work Wiltshire
X-ORIGINAL-URL:https://workwiltshire.co.uk
X-WR-CALDESC:Events for Work Wiltshire
REFRESH-INTERVAL;VALUE=DURATION:PT1H
X-Robots-Tag:noindex
X-PUBLISHED-TTL:PT1H
BEGIN:VTIMEZONE
TZID:Europe/London
BEGIN:DAYLIGHT
TZOFFSETFROM:+0000
TZOFFSETTO:+0100
TZNAME:BST
DTSTART:20230326T010000
END:DAYLIGHT
BEGIN:STANDARD
TZOFFSETFROM:+0100
TZOFFSETTO:+0000
TZNAME:GMT
DTSTART:20231029T010000
END:STANDARD
BEGIN:DAYLIGHT
TZOFFSETFROM:+0000
TZOFFSETTO:+0100
TZNAME:BST
DTSTART:20240331T010000
END:DAYLIGHT
BEGIN:STANDARD
TZOFFSETFROM:+0100
TZOFFSETTO:+0000
TZNAME:GMT
DTSTART:20241027T010000
END:STANDARD
BEGIN:DAYLIGHT
TZOFFSETFROM:+0000
TZOFFSETTO:+0100
TZNAME:BST
DTSTART:20250330T010000
END:DAYLIGHT
BEGIN:STANDARD
TZOFFSETFROM:+0100
TZOFFSETTO:+0000
TZNAME:GMT
DTSTART:20251026T010000
END:STANDARD
END:VTIMEZONE
BEGIN:VEVENT
DTSTART;TZID=Europe/London:20240125T123000
DTEND;TZID=Europe/London:20240125T173000
DTSTAMP:20260425T164107
CREATED:20240104T123801Z
LAST-MODIFIED:20240104T123801Z
UID:5672098-1706185800-1706203800@workwiltshire.co.uk
SUMMARY:Wiltshire Council Careers Fair
DESCRIPTION:We would like to invite you to join us at our Wiltshire Council In-House Careers fair. It is a FREE event.\nWe have a number of in-house services and external companies exhibiting at the event who are all ready to talk about what they do and what they can offer you.\nTeams that will be there from Wiltshire Council are: HR & OD\, Social Care\, Data & Insight\, Highways & Transport\, Finance & Procurement\, Electoral Services\, Family & Community Learning\, Multiply\, Public Health\, ICT\, Library\, Environment\, Building Control\, Early Years\, Families & Children’s Volunteering\, Apprenticeships.\nExternal organisations attending are: Longleat\, Center Parcs\, Go South Coast\, The Army\, Brandon Trust\, Achieve Together\, Bath Spa University\, Silverwood School\, National Careers Service\, Wiltshire College & University Centre\, Tribe PT and Seetec Plus.\n\n\nFor more information please click here: Wiltshire Council Careers Fair Tickets\, Thu 25 Jan 2024 at 12:30 | Eventbrite \nOr visit Facebook: Wiltshire Council Careers Fair | Facebook\n\nBACK TO WHAT’S ON?
URL:https://workwiltshire.co.uk/event/wiltshire-council-careers-fair/
LOCATION:The Atrium\, County Hall\, Trowbridge\, Trowbridge County Hall\, Trowbridge\, BA14 8JQ\, United Kingdom
CATEGORIES:All Events,Multiply
ATTACH;FMTTYPE=image/jpeg:https://workwiltshire.co.uk/wp-content/uploads/2023/04/Wilts-Council-Logo.jpg
END:VEVENT
END:VCALENDAR