BEGIN:VCALENDAR
VERSION:2.0
PRODID:-//Work Wiltshire - ECPv6.15.20//NONSGML v1.0//EN
CALSCALE:GREGORIAN
METHOD:PUBLISH
X-WR-CALNAME:Work Wiltshire
X-ORIGINAL-URL:https://workwiltshire.co.uk
X-WR-CALDESC:Events for Work Wiltshire
REFRESH-INTERVAL;VALUE=DURATION:PT1H
X-Robots-Tag:noindex
X-PUBLISHED-TTL:PT1H
BEGIN:VTIMEZONE
TZID:Europe/London
BEGIN:DAYLIGHT
TZOFFSETFROM:+0000
TZOFFSETTO:+0100
TZNAME:BST
DTSTART:20230326T010000
END:DAYLIGHT
BEGIN:STANDARD
TZOFFSETFROM:+0100
TZOFFSETTO:+0000
TZNAME:GMT
DTSTART:20231029T010000
END:STANDARD
BEGIN:DAYLIGHT
TZOFFSETFROM:+0000
TZOFFSETTO:+0100
TZNAME:BST
DTSTART:20240331T010000
END:DAYLIGHT
BEGIN:STANDARD
TZOFFSETFROM:+0100
TZOFFSETTO:+0000
TZNAME:GMT
DTSTART:20241027T010000
END:STANDARD
BEGIN:DAYLIGHT
TZOFFSETFROM:+0000
TZOFFSETTO:+0100
TZNAME:BST
DTSTART:20250330T010000
END:DAYLIGHT
BEGIN:STANDARD
TZOFFSETFROM:+0100
TZOFFSETTO:+0000
TZNAME:GMT
DTSTART:20251026T010000
END:STANDARD
END:VTIMEZONE
BEGIN:VEVENT
DTSTART;VALUE=DATE:20240617
DTEND;VALUE=DATE:20240723
DTSTAMP:20260425T230348
CREATED:20240415T122828Z
LAST-MODIFIED:20240605T095506Z
UID:5674592-1718582400-1721692799@workwiltshire.co.uk
SUMMARY:Wiltshire Wildlife Trust - Wild Figures
DESCRIPTION:A free six-week outdoors course\, including a range of activities to support people’s wellbeing and improve number confidence such as budgeting\, supporting children or grandchildren with maths\, timekeeping\, reading timetables\, etc. \nFind out more information here: Chippenham Wild Figures Leaflet \nTo register your interest email multiply@wiltshire.gov.uk \nBack to all of our events
URL:https://workwiltshire.co.uk/event/wiltshire-wildlife-trust-wild-figures/
CATEGORIES:Multiply
END:VEVENT
END:VCALENDAR