BEGIN:VCALENDAR
VERSION:2.0
PRODID:-//Work Wiltshire - ECPv6.15.20//NONSGML v1.0//EN
CALSCALE:GREGORIAN
METHOD:PUBLISH
X-WR-CALNAME:Work Wiltshire
X-ORIGINAL-URL:https://workwiltshire.co.uk
X-WR-CALDESC:Events for Work Wiltshire
REFRESH-INTERVAL;VALUE=DURATION:PT1H
X-Robots-Tag:noindex
X-PUBLISHED-TTL:PT1H
BEGIN:VTIMEZONE
TZID:Europe/London
BEGIN:DAYLIGHT
TZOFFSETFROM:+0000
TZOFFSETTO:+0100
TZNAME:BST
DTSTART:20240331T010000
END:DAYLIGHT
BEGIN:STANDARD
TZOFFSETFROM:+0100
TZOFFSETTO:+0000
TZNAME:GMT
DTSTART:20241027T010000
END:STANDARD
BEGIN:DAYLIGHT
TZOFFSETFROM:+0000
TZOFFSETTO:+0100
TZNAME:BST
DTSTART:20250330T010000
END:DAYLIGHT
BEGIN:STANDARD
TZOFFSETFROM:+0100
TZOFFSETTO:+0000
TZNAME:GMT
DTSTART:20251026T010000
END:STANDARD
BEGIN:DAYLIGHT
TZOFFSETFROM:+0000
TZOFFSETTO:+0100
TZNAME:BST
DTSTART:20260329T010000
END:DAYLIGHT
BEGIN:STANDARD
TZOFFSETFROM:+0100
TZOFFSETTO:+0000
TZNAME:GMT
DTSTART:20261025T010000
END:STANDARD
END:VTIMEZONE
BEGIN:VEVENT
DTSTART;TZID=Europe/London:20250923T100000
DTEND;TZID=Europe/London:20250923T120000
DTSTAMP:20260424T190328
CREATED:20220830T090600Z
LAST-MODIFIED:20260331T120055Z
UID:5665928-1758621600-1758628800@workwiltshire.co.uk
SUMMARY:Working in Schools
DESCRIPTION:What’s this course about?     This course will help you to prepare for future employment working in schools. It gives an insight into the varied roles and activities you might be involved in and gives you the opportunity to learn alongside other like-minded people.  Course format:     This is an online course where you’ll learn together and take part in practical group activities\, all in a relaxed and friendly environment.     Who will benefit from attending?     This course is for people who want to work with children in educational settings  What will I learn?     About some of the many roles and responsibilities involved in working in schools  About statutory and non-statutory documents in their chosen age range  How to identify needs and support them How to report concerns and development points  About some of the causes of challenging behaviour and how to deal with it About planning for learning How long is the course?     This is run as 2-hour sessions over 5 weeks\, with some activities to do at home to help you practise your skills.     Will I be assessed?     You will be required to complete some paperwork during this course. This will record and support your learning journey and successes.     Eligibility: Courses are no cost to learners who meet our eligibility criteria. Learners must be aged 19+ on 31 August of the academic year\, have a Wiltshire postcode\, and meet certain residency requirements. They must also be able to tick one of the following criteria: On a lower income\, earning less than £25\,750 a year.In receipt of benefits (other than child benefit).Care leaver\, refugee\, foster carer\, carer\, military family / ex-armed forces personnel\, have a learning difficulty or disability\, have school-aged children who receive means-tested free school meals.Not in work and looking to go into work\, now or in the future.Click here to enrol: https://workwiltshire.co.uk/enrolment/ Or to contact us call 01225 770478 or email familyandcommunitylearning@wiltshire.gov.uk https://www.facebook.com/Wiltsfamilylearning
URL:https://workwiltshire.co.uk/event/working-in-schools-23-9-25/
LOCATION:Online
CATEGORIES:All Events,Family and Community Learning Courses
ORGANIZER;CN="Family and Community Learning":MAILTO:Familyandcommunitylearning@wiltshire.gov.uk
END:VEVENT
END:VCALENDAR